BEGIN:VCALENDAR
VERSION:2.0
PRODID:-//Skebergs bygdeg&aring;rd - ECPv6.15.20//NONSGML v1.0//EN
CALSCALE:GREGORIAN
METHOD:PUBLISH
X-ORIGINAL-URL:https://skeberg.se
X-WR-CALDESC:Händelser för Skebergs bygdeg&aring;rd
REFRESH-INTERVAL;VALUE=DURATION:PT1H
X-Robots-Tag:noindex
X-PUBLISHED-TTL:PT1H
BEGIN:VTIMEZONE
TZID:Europe/Stockholm
BEGIN:DAYLIGHT
TZOFFSETFROM:+0100
TZOFFSETTO:+0200
TZNAME:CEST
DTSTART:20210328T010000
END:DAYLIGHT
BEGIN:STANDARD
TZOFFSETFROM:+0200
TZOFFSETTO:+0100
TZNAME:CET
DTSTART:20211031T010000
END:STANDARD
BEGIN:DAYLIGHT
TZOFFSETFROM:+0100
TZOFFSETTO:+0200
TZNAME:CEST
DTSTART:20220327T010000
END:DAYLIGHT
BEGIN:STANDARD
TZOFFSETFROM:+0200
TZOFFSETTO:+0100
TZNAME:CET
DTSTART:20221030T010000
END:STANDARD
BEGIN:DAYLIGHT
TZOFFSETFROM:+0100
TZOFFSETTO:+0200
TZNAME:CEST
DTSTART:20230326T010000
END:DAYLIGHT
BEGIN:STANDARD
TZOFFSETFROM:+0200
TZOFFSETTO:+0100
TZNAME:CET
DTSTART:20231029T010000
END:STANDARD
END:VTIMEZONE
BEGIN:VEVENT
DTSTART;TZID=Europe/Stockholm:20220404T183000
DTEND;TZID=Europe/Stockholm:20220404T204500
DTSTAMP:20260424T200433
CREATED:20220331T175006Z
LAST-MODIFIED:20220331T175223Z
UID:2411-1649097000-1649105100@skeberg.se
SUMMARY:MERSMAK - Röjning upptaktsträff Leksand
DESCRIPTION:Vill du veta mer om röjningens biologi\, ekonomi och arbetsteknik så besök någon av våra informationsträffar!\nVi kommer också under våren erbjuda Kvällsträffar med mer teori och Skogsdagar med fördjupning inom olika områden. \nFöranmälan krävs. Läs mer här
URL:https://skeberg.se/event/mersmak-rojning-upptaktstraff-leksand/
LOCATION:Skebergs bygdegård
END:VEVENT
END:VCALENDAR