BEGIN:VCALENDAR
VERSION:2.0
PRODID:-//Skebergs bygdeg&aring;rd - ECPv6.15.20//NONSGML v1.0//EN
CALSCALE:GREGORIAN
METHOD:PUBLISH
X-WR-CALNAME:Skebergs bygdeg&aring;rd
X-ORIGINAL-URL:https://skeberg.se
X-WR-CALDESC:Händelser för Skebergs bygdeg&aring;rd
REFRESH-INTERVAL;VALUE=DURATION:PT1H
X-Robots-Tag:noindex
X-PUBLISHED-TTL:PT1H
BEGIN:VTIMEZONE
TZID:Europe/Stockholm
BEGIN:DAYLIGHT
TZOFFSETFROM:+0100
TZOFFSETTO:+0200
TZNAME:CEST
DTSTART:20210328T010000
END:DAYLIGHT
BEGIN:STANDARD
TZOFFSETFROM:+0200
TZOFFSETTO:+0100
TZNAME:CET
DTSTART:20211031T010000
END:STANDARD
BEGIN:DAYLIGHT
TZOFFSETFROM:+0100
TZOFFSETTO:+0200
TZNAME:CEST
DTSTART:20220327T010000
END:DAYLIGHT
BEGIN:STANDARD
TZOFFSETFROM:+0200
TZOFFSETTO:+0100
TZNAME:CET
DTSTART:20221030T010000
END:STANDARD
BEGIN:DAYLIGHT
TZOFFSETFROM:+0100
TZOFFSETTO:+0200
TZNAME:CEST
DTSTART:20230326T010000
END:DAYLIGHT
BEGIN:STANDARD
TZOFFSETFROM:+0200
TZOFFSETTO:+0100
TZNAME:CET
DTSTART:20231029T010000
END:STANDARD
END:VTIMEZONE
BEGIN:VEVENT
DTSTART;TZID=Europe/Stockholm:20220702T090000
DTEND;TZID=Europe/Stockholm:20220702T150000
DTSTAMP:20260424T162312
CREATED:20220331T180135Z
LAST-MODIFIED:20220630T142254Z
UID:2428-1656752400-1656774000@skeberg.se
SUMMARY:Arbetsdag
DESCRIPTION:
URL:https://skeberg.se/event/arbetsdag/
END:VEVENT
BEGIN:VEVENT
DTSTART;TZID=Europe/Stockholm:20220702T160000
DTEND;TZID=Europe/Stockholm:20220702T180000
DTSTAMP:20260424T162312
CREATED:20220630T141951Z
LAST-MODIFIED:20220630T141951Z
UID:2526-1656777600-1656784800@skeberg.se
SUMMARY:Gropens majstångsresning
DESCRIPTION:Medtag fikakorg och egen stol. Välkomna!
URL:https://skeberg.se/event/gropens-majstangsresning/
END:VEVENT
BEGIN:VEVENT
DTSTART;TZID=Europe/Stockholm:20220702T200000
DTEND;TZID=Europe/Stockholm:20220702T230000
DTSTAMP:20260424T162312
CREATED:20220618T130225Z
LAST-MODIFIED:20220618T130225Z
UID:2469-1656792000-1656802800@skeberg.se
SUMMARY:Ish\, typ - Folklig musik från bl a Sverige\, Irland\, Skottland och England
DESCRIPTION:Folklig musik från bl a Sverige\, Irland\, Skottland och England framförd av bandet Ish Typ med rötterna i Leksand men även med musikanter från Borlänge\, Falun och Rättvik. Entré: 100 kr.
URL:https://skeberg.se/event/ish-typ-folklig-musik-fran-bl-a-sverige-irland-skottland-och-england/
LOCATION:Skebergs bygdegård
END:VEVENT
END:VCALENDAR