BEGIN:VCALENDAR
VERSION:2.0
PRODID:-//Skebergs bygdeg&aring;rd - ECPv6.15.20//NONSGML v1.0//EN
CALSCALE:GREGORIAN
METHOD:PUBLISH
X-ORIGINAL-URL:https://skeberg.se
X-WR-CALDESC:Händelser för Skebergs bygdeg&aring;rd
REFRESH-INTERVAL;VALUE=DURATION:PT1H
X-Robots-Tag:noindex
X-PUBLISHED-TTL:PT1H
BEGIN:VTIMEZONE
TZID:Europe/Stockholm
BEGIN:DAYLIGHT
TZOFFSETFROM:+0100
TZOFFSETTO:+0200
TZNAME:CEST
DTSTART:20210328T010000
END:DAYLIGHT
BEGIN:STANDARD
TZOFFSETFROM:+0200
TZOFFSETTO:+0100
TZNAME:CET
DTSTART:20211031T010000
END:STANDARD
BEGIN:DAYLIGHT
TZOFFSETFROM:+0100
TZOFFSETTO:+0200
TZNAME:CEST
DTSTART:20220327T010000
END:DAYLIGHT
BEGIN:STANDARD
TZOFFSETFROM:+0200
TZOFFSETTO:+0100
TZNAME:CET
DTSTART:20221030T010000
END:STANDARD
BEGIN:DAYLIGHT
TZOFFSETFROM:+0100
TZOFFSETTO:+0200
TZNAME:CEST
DTSTART:20230326T010000
END:DAYLIGHT
BEGIN:STANDARD
TZOFFSETFROM:+0200
TZOFFSETTO:+0100
TZNAME:CET
DTSTART:20231029T010000
END:STANDARD
END:VTIMEZONE
BEGIN:VEVENT
DTSTART;TZID=Europe/Stockholm:20220716T150000
DTEND;TZID=Europe/Stockholm:20220716T180000
DTSTAMP:20260424T162531
CREATED:20220331T175749Z
LAST-MODIFIED:20220630T142706Z
UID:2425-1657983600-1657994400@skeberg.se
SUMMARY:Backens majstångsresning
DESCRIPTION:
URL:https://skeberg.se/event/backens-majstangsresning/
END:VEVENT
BEGIN:VEVENT
DTSTART;TZID=Europe/Stockholm:20220716T200000
DTEND;TZID=Europe/Stockholm:20220717T010000
DTSTAMP:20260424T162531
CREATED:20220420T123936Z
LAST-MODIFIED:20220420T123936Z
UID:2435-1658001600-1658019600@skeberg.se
SUMMARY:En natt med Lindbärs
DESCRIPTION:Det var många år sedan sist\, men lördagen den 16 juli 2022 återuppstår Lindbärs för en helkväll i Skebergs Bygdegård. \nLäs mer här
URL:https://skeberg.se/event/en-natt-med-lindbars/
LOCATION:Skebergs bygdegård
END:VEVENT
END:VCALENDAR