BEGIN:VCALENDAR
VERSION:2.0
PRODID:-//Skebergs bygdeg&aring;rd - ECPv6.15.20//NONSGML v1.0//EN
CALSCALE:GREGORIAN
METHOD:PUBLISH
X-ORIGINAL-URL:https://skeberg.se
X-WR-CALDESC:Händelser för Skebergs bygdeg&aring;rd
REFRESH-INTERVAL;VALUE=DURATION:PT1H
X-Robots-Tag:noindex
X-PUBLISHED-TTL:PT1H
BEGIN:VTIMEZONE
TZID:Europe/Stockholm
BEGIN:DAYLIGHT
TZOFFSETFROM:+0100
TZOFFSETTO:+0200
TZNAME:CEST
DTSTART:20220327T010000
END:DAYLIGHT
BEGIN:STANDARD
TZOFFSETFROM:+0200
TZOFFSETTO:+0100
TZNAME:CET
DTSTART:20221030T010000
END:STANDARD
BEGIN:DAYLIGHT
TZOFFSETFROM:+0100
TZOFFSETTO:+0200
TZNAME:CEST
DTSTART:20230326T010000
END:DAYLIGHT
BEGIN:STANDARD
TZOFFSETFROM:+0200
TZOFFSETTO:+0100
TZNAME:CET
DTSTART:20231029T010000
END:STANDARD
BEGIN:DAYLIGHT
TZOFFSETFROM:+0100
TZOFFSETTO:+0200
TZNAME:CEST
DTSTART:20240331T010000
END:DAYLIGHT
BEGIN:STANDARD
TZOFFSETFROM:+0200
TZOFFSETTO:+0100
TZNAME:CET
DTSTART:20241027T010000
END:STANDARD
END:VTIMEZONE
BEGIN:VEVENT
DTSTART;TZID=Europe/Stockholm:20230728T200000
DTEND;TZID=Europe/Stockholm:20230729T010000
DTSTAMP:20260423T092349
CREATED:20230504T195604Z
LAST-MODIFIED:20230504T195604Z
UID:2736-1690574400-1690592400@skeberg.se
SUMMARY:Lindbärs LullaMaDooza
DESCRIPTION:För mer info: Lindbärs
URL:https://skeberg.se/event/lindbars-lullamadooza/
LOCATION:Skebergs bygdegård
END:VEVENT
END:VCALENDAR