BEGIN:VCALENDAR
VERSION:2.0
PRODID:-//Skebergs bygdeg&aring;rd - ECPv6.15.20//NONSGML v1.0//EN
CALSCALE:GREGORIAN
METHOD:PUBLISH
X-ORIGINAL-URL:https://skeberg.se
X-WR-CALDESC:Händelser för Skebergs bygdeg&aring;rd
REFRESH-INTERVAL;VALUE=DURATION:PT1H
X-Robots-Tag:noindex
X-PUBLISHED-TTL:PT1H
BEGIN:VTIMEZONE
TZID:Europe/Stockholm
BEGIN:DAYLIGHT
TZOFFSETFROM:+0100
TZOFFSETTO:+0200
TZNAME:CEST
DTSTART:20230326T010000
END:DAYLIGHT
BEGIN:STANDARD
TZOFFSETFROM:+0200
TZOFFSETTO:+0100
TZNAME:CET
DTSTART:20231029T010000
END:STANDARD
BEGIN:DAYLIGHT
TZOFFSETFROM:+0100
TZOFFSETTO:+0200
TZNAME:CEST
DTSTART:20240331T010000
END:DAYLIGHT
BEGIN:STANDARD
TZOFFSETFROM:+0200
TZOFFSETTO:+0100
TZNAME:CET
DTSTART:20241027T010000
END:STANDARD
BEGIN:DAYLIGHT
TZOFFSETFROM:+0100
TZOFFSETTO:+0200
TZNAME:CEST
DTSTART:20250330T010000
END:DAYLIGHT
BEGIN:STANDARD
TZOFFSETFROM:+0200
TZOFFSETTO:+0100
TZNAME:CET
DTSTART:20251026T010000
END:STANDARD
BEGIN:DAYLIGHT
TZOFFSETFROM:+0100
TZOFFSETTO:+0200
TZNAME:CEST
DTSTART:20260329T010000
END:DAYLIGHT
BEGIN:STANDARD
TZOFFSETFROM:+0200
TZOFFSETTO:+0100
TZNAME:CET
DTSTART:20261025T010000
END:STANDARD
END:VTIMEZONE
BEGIN:VEVENT
DTSTART;VALUE=DATE:20240818
DTEND;VALUE=DATE:20240819
DTSTAMP:20260423T000318
CREATED:20240816T075519Z
LAST-MODIFIED:20240816T075519Z
UID:3040-1723939200-1724025599@skeberg.se
SUMMARY:Bygdegården bokad
DESCRIPTION:
URL:https://skeberg.se/event/bygdegarden-bokad-17/
END:VEVENT
BEGIN:VEVENT
DTSTART;VALUE=DATE:20240822
DTEND;VALUE=DATE:20240823
DTSTAMP:20260423T000318
CREATED:20240618T200456Z
LAST-MODIFIED:20240618T200456Z
UID:2969-1724284800-1724371199@skeberg.se
SUMMARY:Bygdegården bokad
DESCRIPTION:
URL:https://skeberg.se/event/bygdegarden-bokad-16/
END:VEVENT
BEGIN:VEVENT
DTSTART;VALUE=DATE:20240829
DTEND;VALUE=DATE:20240831
DTSTAMP:20260423T000318
CREATED:20240617T152837Z
LAST-MODIFIED:20240617T152837Z
UID:2951-1724889600-1725062399@skeberg.se
SUMMARY:Bygdegården bokad
DESCRIPTION:
URL:https://skeberg.se/event/bygdegarden-bokad-15/
LOCATION:Skebergs bygdegård
END:VEVENT
BEGIN:VEVENT
DTSTART;VALUE=DATE:20240907
DTEND;VALUE=DATE:20240908
DTSTAMP:20260423T000318
CREATED:20240617T163150Z
LAST-MODIFIED:20240816T075452Z
UID:2967-1725667200-1725753599@skeberg.se
SUMMARY:Höstfest
DESCRIPTION:
URL:https://skeberg.se/event/hostfest-3/
LOCATION:Skebergs bygdegård
END:VEVENT
BEGIN:VEVENT
DTSTART;TZID=Europe/Stockholm:20241005T183000
DTEND;TZID=Europe/Stockholm:20241005T203000
DTSTAMP:20260423T000318
CREATED:20241005T080728Z
LAST-MODIFIED:20241005T080728Z
UID:3059-1728153000-1728160200@skeberg.se
SUMMARY:Filmkväll
DESCRIPTION:
URL:https://skeberg.se/event/filmkvall-7/
LOCATION:Skebergs bygdegård
END:VEVENT
BEGIN:VEVENT
DTSTART;TZID=Europe/Stockholm:20241009T183000
DTEND;TZID=Europe/Stockholm:20241009T203000
DTSTAMP:20260423T000318
CREATED:20241005T075316Z
LAST-MODIFIED:20241005T075316Z
UID:3047-1728498600-1728505800@skeberg.se
SUMMARY:Spelkväll
DESCRIPTION:
URL:https://skeberg.se/event/spelkvall-2/
LOCATION:Skebergs bygdegård
END:VEVENT
BEGIN:VEVENT
DTSTART;TZID=Europe/Stockholm:20241016T183000
DTEND;TZID=Europe/Stockholm:20241016T200000
DTSTAMP:20260423T000318
CREATED:20241005T075442Z
LAST-MODIFIED:20241005T075442Z
UID:3050-1729103400-1729108800@skeberg.se
SUMMARY:Musikkväll
DESCRIPTION:
URL:https://skeberg.se/event/musikkvall-8/
LOCATION:Skebergs bygdegård
END:VEVENT
BEGIN:VEVENT
DTSTART;TZID=Europe/Stockholm:20241023T183000
DTEND;TZID=Europe/Stockholm:20241023T200000
DTSTAMP:20260423T000318
CREATED:20241005T075748Z
LAST-MODIFIED:20241005T075749Z
UID:3052-1729708200-1729713600@skeberg.se
SUMMARY:Bingo!
DESCRIPTION:
URL:https://skeberg.se/event/bingo-12/
LOCATION:Skebergs bygdegård
END:VEVENT
BEGIN:VEVENT
DTSTART;TZID=Europe/Stockholm:20241106T183000
DTEND;TZID=Europe/Stockholm:20241106T200000
DTSTAMP:20260423T000318
CREATED:20241005T075856Z
LAST-MODIFIED:20241005T075856Z
UID:3054-1730917800-1730923200@skeberg.se
SUMMARY:Lokal filmkväll
DESCRIPTION:
URL:https://skeberg.se/event/lokal-filmkvall-2/
LOCATION:Skebergs bygdegård
END:VEVENT
BEGIN:VEVENT
DTSTART;TZID=Europe/Stockholm:20241113T183000
DTEND;TZID=Europe/Stockholm:20241113T200000
DTSTAMP:20260423T000318
CREATED:20241005T080023Z
LAST-MODIFIED:20241005T080023Z
UID:3057-1731522600-1731528000@skeberg.se
SUMMARY:Spelkväll
DESCRIPTION:
URL:https://skeberg.se/event/spelkvall-3/
LOCATION:Skebergs bygdegård
END:VEVENT
BEGIN:VEVENT
DTSTART;TZID=Europe/Stockholm:20241204T183000
DTEND;TZID=Europe/Stockholm:20241204T203000
DTSTAMP:20260423T000318
CREATED:20241005T080919Z
LAST-MODIFIED:20241005T080919Z
UID:3061-1733337000-1733344200@skeberg.se
SUMMARY:Bingo!
DESCRIPTION:
URL:https://skeberg.se/event/bingo-13/
LOCATION:Skebergs bygdegård
END:VEVENT
BEGIN:VEVENT
DTSTART;TZID=Europe/Stockholm:20241211T183000
DTEND;TZID=Europe/Stockholm:20241211T203000
DTSTAMP:20260423T000318
CREATED:20241005T080955Z
LAST-MODIFIED:20241005T080955Z
UID:3063-1733941800-1733949000@skeberg.se
SUMMARY:Julpysselkväll
DESCRIPTION:
URL:https://skeberg.se/event/julpysselkvall/
LOCATION:Skebergs bygdegård
END:VEVENT
BEGIN:VEVENT
DTSTART;VALUE=DATE:20250122
DTEND;VALUE=DATE:20250123
DTSTAMP:20260423T000318
CREATED:20250122T185427Z
LAST-MODIFIED:20250122T185427Z
UID:3105-1737504000-1737590399@skeberg.se
SUMMARY:Spelkväll
DESCRIPTION:
URL:https://skeberg.se/event/spelkvall-5/
LOCATION:Skebergs bygdegård
END:VEVENT
BEGIN:VEVENT
DTSTART;VALUE=DATE:20250127
DTEND;VALUE=DATE:20250128
DTSTAMP:20260423T000318
CREATED:20250105T154845Z
LAST-MODIFIED:20250105T154845Z
UID:3076-1737936000-1738022399@skeberg.se
SUMMARY:Bygdegården bokad
DESCRIPTION:
URL:https://skeberg.se/event/bygdegarden-bokad-18/
END:VEVENT
BEGIN:VEVENT
DTSTART;VALUE=DATE:20250202
DTEND;VALUE=DATE:20250203
DTSTAMP:20260423T000318
CREATED:20250105T154933Z
LAST-MODIFIED:20250105T154933Z
UID:3078-1738454400-1738540799@skeberg.se
SUMMARY:Bygdegården bokad
DESCRIPTION:
URL:https://skeberg.se/event/bygdegarden-bokad-19/
END:VEVENT
BEGIN:VEVENT
DTSTART;VALUE=DATE:20250205
DTEND;VALUE=DATE:20250206
DTSTAMP:20260423T000318
CREATED:20250122T185055Z
LAST-MODIFIED:20250122T185055Z
UID:3089-1738713600-1738799999@skeberg.se
SUMMARY:Bingo!
DESCRIPTION:
URL:https://skeberg.se/event/bingo-14/
LOCATION:Skebergs bygdegård
END:VEVENT
BEGIN:VEVENT
DTSTART;VALUE=DATE:20250219
DTEND;VALUE=DATE:20250220
DTSTAMP:20260423T000318
CREATED:20250122T185123Z
LAST-MODIFIED:20250122T185123Z
UID:3091-1739923200-1740009599@skeberg.se
SUMMARY:Semmelonsdag
DESCRIPTION:
URL:https://skeberg.se/event/semmelonsdag-3/
LOCATION:Skebergs bygdegård
END:VEVENT
BEGIN:VEVENT
DTSTART;VALUE=DATE:20250319
DTEND;VALUE=DATE:20250320
DTSTAMP:20260423T000318
CREATED:20250122T185201Z
LAST-MODIFIED:20250122T185201Z
UID:3093-1742342400-1742428799@skeberg.se
SUMMARY:Pysselkväll med vaxljus
DESCRIPTION:Till självkostnadspris
URL:https://skeberg.se/event/pysselkvall-med-vaxljus/
LOCATION:Skebergs bygdegård
END:VEVENT
BEGIN:VEVENT
DTSTART;VALUE=DATE:20250326
DTEND;VALUE=DATE:20250327
DTSTAMP:20260423T000318
CREATED:20250122T185220Z
LAST-MODIFIED:20250122T185220Z
UID:3095-1742947200-1743033599@skeberg.se
SUMMARY:Spelkväll
DESCRIPTION:
URL:https://skeberg.se/event/spelkvall-4/
LOCATION:Skebergs bygdegård
END:VEVENT
BEGIN:VEVENT
DTSTART;VALUE=DATE:20250402
DTEND;VALUE=DATE:20250403
DTSTAMP:20260423T000318
CREATED:20250122T185248Z
LAST-MODIFIED:20250122T185248Z
UID:3097-1743552000-1743638399@skeberg.se
SUMMARY:Lär dig källsortera!
DESCRIPTION:
URL:https://skeberg.se/event/lar-dig-kallsortera/
LOCATION:Skebergs bygdegård
END:VEVENT
BEGIN:VEVENT
DTSTART;VALUE=DATE:20250409
DTEND;VALUE=DATE:20250410
DTSTAMP:20260423T000318
CREATED:20250122T185311Z
LAST-MODIFIED:20250122T185311Z
UID:3099-1744156800-1744243199@skeberg.se
SUMMARY:Bingo!
DESCRIPTION:
URL:https://skeberg.se/event/bingo-15/
LOCATION:Skebergs bygdegård
END:VEVENT
BEGIN:VEVENT
DTSTART;VALUE=DATE:20250410
DTEND;VALUE=DATE:20250411
DTSTAMP:20260423T000318
CREATED:20250324T112840Z
LAST-MODIFIED:20250324T112840Z
UID:3124-1744243200-1744329599@skeberg.se
SUMMARY:Bygdegården bokad
DESCRIPTION:
URL:https://skeberg.se/event/bygdegarden-bokad-20/
END:VEVENT
BEGIN:VEVENT
DTSTART;VALUE=DATE:20250416
DTEND;VALUE=DATE:20250417
DTSTAMP:20260423T000318
CREATED:20250122T185342Z
LAST-MODIFIED:20250122T185342Z
UID:3101-1744761600-1744847999@skeberg.se
SUMMARY:Påskpysselkväll
DESCRIPTION:Ta med det du vill pyssla med.
URL:https://skeberg.se/event/paskpysselkvall/
LOCATION:Skebergs bygdegård
END:VEVENT
BEGIN:VEVENT
DTSTART;VALUE=DATE:20250423
DTEND;VALUE=DATE:20250424
DTSTAMP:20260423T000318
CREATED:20250122T185406Z
LAST-MODIFIED:20250122T185406Z
UID:3103-1745366400-1745452799@skeberg.se
SUMMARY:Allsång
DESCRIPTION:
URL:https://skeberg.se/event/allsang/
LOCATION:Skebergs bygdegård
END:VEVENT
BEGIN:VEVENT
DTSTART;VALUE=DATE:20250505
DTEND;VALUE=DATE:20250506
DTSTAMP:20260423T000318
CREATED:20250324T112903Z
LAST-MODIFIED:20250324T113026Z
UID:3126-1746403200-1746489599@skeberg.se
SUMMARY:Bygdegården bokad
DESCRIPTION:
URL:https://skeberg.se/event/bygdegarden-bokad-21/
END:VEVENT
BEGIN:VEVENT
DTSTART;VALUE=DATE:20250506
DTEND;VALUE=DATE:20250507
DTSTAMP:20260423T000318
CREATED:20250407T161623Z
LAST-MODIFIED:20250407T161623Z
UID:3134-1746489600-1746575999@skeberg.se
SUMMARY:Bygdegården bokad
DESCRIPTION:
URL:https://skeberg.se/event/bygdegarden-bokad-24/
LOCATION:Skebergs bygdegård
END:VEVENT
BEGIN:VEVENT
DTSTART;VALUE=DATE:20250507
DTEND;VALUE=DATE:20250508
DTSTAMP:20260423T000318
CREATED:20250407T161722Z
LAST-MODIFIED:20250407T161722Z
UID:3136-1746576000-1746662399@skeberg.se
SUMMARY:Bygdegården bokad
DESCRIPTION:
URL:https://skeberg.se/event/bygdegarden-bokad-25/
END:VEVENT
BEGIN:VEVENT
DTSTART;VALUE=DATE:20250510
DTEND;VALUE=DATE:20250512
DTSTAMP:20260423T000318
CREATED:20250331T065600Z
LAST-MODIFIED:20250407T161806Z
UID:3131-1746835200-1747007999@skeberg.se
SUMMARY:Bygdegården bokad
DESCRIPTION:
URL:https://skeberg.se/event/bygdegarden-bokad-23/
LOCATION:Skebergs bygdegård
END:VEVENT
BEGIN:VEVENT
DTSTART;VALUE=DATE:20250514
DTEND;VALUE=DATE:20250515
DTSTAMP:20260423T000318
CREATED:20250122T185448Z
LAST-MODIFIED:20250122T185448Z
UID:3107-1747180800-1747267199@skeberg.se
SUMMARY:Grillkväll
DESCRIPTION:
URL:https://skeberg.se/event/grillkvall-3/
LOCATION:Skebergs bygdegård
END:VEVENT
BEGIN:VEVENT
DTSTART;VALUE=DATE:20250527
DTEND;VALUE=DATE:20250528
DTSTAMP:20260423T000318
CREATED:20250324T113147Z
LAST-MODIFIED:20250324T113147Z
UID:3128-1748304000-1748390399@skeberg.se
SUMMARY:Bygdegården bokad
DESCRIPTION:
URL:https://skeberg.se/event/bygdegarden-bokad-22/
END:VEVENT
END:VCALENDAR