BEGIN:VCALENDAR
VERSION:2.0
PRODID:-//Skebergs bygdeg&aring;rd - ECPv6.15.20//NONSGML v1.0//EN
CALSCALE:GREGORIAN
METHOD:PUBLISH
X-ORIGINAL-URL:https://skeberg.se
X-WR-CALDESC:Händelser för Skebergs bygdeg&aring;rd
REFRESH-INTERVAL;VALUE=DURATION:PT1H
X-Robots-Tag:noindex
X-PUBLISHED-TTL:PT1H
BEGIN:VTIMEZONE
TZID:Europe/Stockholm
BEGIN:DAYLIGHT
TZOFFSETFROM:+0100
TZOFFSETTO:+0200
TZNAME:CEST
DTSTART:20210328T010000
END:DAYLIGHT
BEGIN:STANDARD
TZOFFSETFROM:+0200
TZOFFSETTO:+0100
TZNAME:CET
DTSTART:20211031T010000
END:STANDARD
BEGIN:DAYLIGHT
TZOFFSETFROM:+0100
TZOFFSETTO:+0200
TZNAME:CEST
DTSTART:20220327T010000
END:DAYLIGHT
BEGIN:STANDARD
TZOFFSETFROM:+0200
TZOFFSETTO:+0100
TZNAME:CET
DTSTART:20221030T010000
END:STANDARD
BEGIN:DAYLIGHT
TZOFFSETFROM:+0100
TZOFFSETTO:+0200
TZNAME:CEST
DTSTART:20230326T010000
END:DAYLIGHT
BEGIN:STANDARD
TZOFFSETFROM:+0200
TZOFFSETTO:+0100
TZNAME:CET
DTSTART:20231029T010000
END:STANDARD
BEGIN:DAYLIGHT
TZOFFSETFROM:+0100
TZOFFSETTO:+0200
TZNAME:CEST
DTSTART:20240331T010000
END:DAYLIGHT
BEGIN:STANDARD
TZOFFSETFROM:+0200
TZOFFSETTO:+0100
TZNAME:CET
DTSTART:20241027T010000
END:STANDARD
END:VTIMEZONE
BEGIN:VEVENT
DTSTART;TZID=Europe/Stockholm:20230728T200000
DTEND;TZID=Europe/Stockholm:20230729T010000
DTSTAMP:20260422T024224
CREATED:20230504T195604Z
LAST-MODIFIED:20230504T195604Z
UID:2736-1690574400-1690592400@skeberg.se
SUMMARY:Lindbärs LullaMaDooza
DESCRIPTION:För mer info: Lindbärs
URL:https://skeberg.se/event/lindbars-lullamadooza/
LOCATION:Skebergs bygdegård
END:VEVENT
BEGIN:VEVENT
DTSTART;VALUE=DATE:20230722
DTEND;VALUE=DATE:20230723
DTSTAMP:20260422T024224
CREATED:20230703T084919Z
LAST-MODIFIED:20230703T084919Z
UID:2792-1689984000-1690070399@skeberg.se
SUMMARY:Skibbârg Run 2023
DESCRIPTION:Lördagen den 22 juli är det dags för den nionde upplagan av Skibbârg Run – en garanterat asfaltsfri löptävling för alla åldrar och förmågor!\nTa chansen att gå\, lunka eller löp och samtidigt uppleva de högt belägna och vackra Skebergsbyarna i bästa högsommarskrud. Välj mellan tre banlängder: 11 km\, 4\,5 km eller 500 m (barn). \nLäs mer här.
URL:https://skeberg.se/event/skibbarg-run-2023/
LOCATION:Skebergs bygdegård
END:VEVENT
BEGIN:VEVENT
DTSTART;VALUE=DATE:20230721
DTEND;VALUE=DATE:20230724
DTSTAMP:20260422T024224
CREATED:20230703T084152Z
LAST-MODIFIED:20230703T084152Z
UID:2783-1689897600-1690156799@skeberg.se
SUMMARY:Skebergsdagarna 2023
DESCRIPTION:Välkomna till årets Skebergsdagar!\nPå fredagen kör vi Barnens dag igen med bland annat terrängbana\, skattjakt och åktur med fyrhjuling och vagn m.m.\nLördag förmiddag blir det fältvandring med Åsa Rydell och på eftermiddagen löptävlingen Skibbârg Run.\nPå söndag blir det sedvanlig paketauktion och utställningen Flottning och flotbåtar på Siljan.\nServering alla dagar med bland annat nybakad tjockbulla. Hela programmet hittar du här.
URL:https://skeberg.se/event/skebergsdagarna-2023/
LOCATION:Skebergs bygdegård
END:VEVENT
BEGIN:VEVENT
DTSTART;VALUE=DATE:20230629
DTEND;VALUE=DATE:20230701
DTSTAMP:20260422T024224
CREATED:20230403T081232Z
LAST-MODIFIED:20230620T131815Z
UID:2717-1687996800-1688169599@skeberg.se
SUMMARY:Lieslåtterkurs
DESCRIPTION:
URL:https://skeberg.se/event/bygdegarden-bokad-6/
END:VEVENT
BEGIN:VEVENT
DTSTART;VALUE=DATE:20230627
DTEND;VALUE=DATE:20230628
DTSTAMP:20260422T024224
CREATED:20230427T164058Z
LAST-MODIFIED:20230427T164058Z
UID:2727-1687824000-1687910399@skeberg.se
SUMMARY:Bygdegården bokad
DESCRIPTION:
URL:https://skeberg.se/event/bygdegarden-bokad-7/
LOCATION:Skebergs bygdegård
END:VEVENT
BEGIN:VEVENT
DTSTART;TZID=Europe/Stockholm:20230604T100000
DTEND;TZID=Europe/Stockholm:20230604T120000
DTSTAMP:20260422T024224
CREATED:20230504T195247Z
LAST-MODIFIED:20230504T195247Z
UID:2733-1685872800-1685880000@skeberg.se
SUMMARY:Årsmöte 2023
DESCRIPTION:
URL:https://skeberg.se/event/arsmote-2023/
LOCATION:Skebergs bygdegård
END:VEVENT
BEGIN:VEVENT
DTSTART;VALUE=DATE:20230504
DTEND;VALUE=DATE:20230505
DTSTAMP:20260422T024224
CREATED:20230130T165838Z
LAST-MODIFIED:20230201T201347Z
UID:2670-1683158400-1683244799@skeberg.se
SUMMARY:Bygdegården bokad
DESCRIPTION:Bygdegården bokad
URL:https://skeberg.se/event/bygdegarden-bokad-5/
LOCATION:Skebergs bygdegård
END:VEVENT
BEGIN:VEVENT
DTSTART;TZID=Europe/Stockholm:20230430T190000
DTEND;TZID=Europe/Stockholm:20230430T220000
DTSTAMP:20260422T024224
CREATED:20230407T064651Z
LAST-MODIFIED:20230407T064651Z
UID:2720-1682881200-1682892000@skeberg.se
SUMMARY:Valborgsfirande
DESCRIPTION:
URL:https://skeberg.se/event/valborgsfirande-2/
LOCATION:Skebergs bygdegård
END:VEVENT
BEGIN:VEVENT
DTSTART;TZID=Europe/Stockholm:20230426T183000
DTEND;TZID=Europe/Stockholm:20230426T200000
DTSTAMP:20260422T024224
CREATED:20230201T201235Z
LAST-MODIFIED:20230201T201235Z
UID:2697-1682533800-1682539200@skeberg.se
SUMMARY:Lokal filmkväll
DESCRIPTION:Filmklipp från vårt närområde.
URL:https://skeberg.se/event/lokal-filmkvall/
LOCATION:Skebergs bygdegård
END:VEVENT
BEGIN:VEVENT
DTSTART;TZID=Europe/Stockholm:20230419T183000
DTEND;TZID=Europe/Stockholm:20230419T200000
DTSTAMP:20260422T024224
CREATED:20230201T201135Z
LAST-MODIFIED:20230201T201135Z
UID:2695-1681929000-1681934400@skeberg.se
SUMMARY:Filmkväll
DESCRIPTION:
URL:https://skeberg.se/event/filmkvall-4/
LOCATION:Skebergs bygdegård
END:VEVENT
BEGIN:VEVENT
DTSTART;TZID=Europe/Stockholm:20230412T183000
DTEND;TZID=Europe/Stockholm:20230412T200000
DTSTAMP:20260422T024224
CREATED:20230201T201058Z
LAST-MODIFIED:20230201T201058Z
UID:2693-1681324200-1681329600@skeberg.se
SUMMARY:Bingo!
DESCRIPTION:
URL:https://skeberg.se/event/bingo-6/
LOCATION:Skebergs bygdegård
END:VEVENT
BEGIN:VEVENT
DTSTART;TZID=Europe/Stockholm:20230329T183000
DTEND;TZID=Europe/Stockholm:20230329T200000
DTSTAMP:20260422T024224
CREATED:20230201T201025Z
LAST-MODIFIED:20230201T201025Z
UID:2691-1680114600-1680120000@skeberg.se
SUMMARY:Musikkväll
DESCRIPTION:
URL:https://skeberg.se/event/musikkvall-4/
LOCATION:Skebergs bygdegård
END:VEVENT
BEGIN:VEVENT
DTSTART;TZID=Europe/Stockholm:20230322T183000
DTEND;TZID=Europe/Stockholm:20230322T200000
DTSTAMP:20260422T024224
CREATED:20230201T200930Z
LAST-MODIFIED:20230201T200930Z
UID:2689-1679509800-1679515200@skeberg.se
SUMMARY:Siljansnäsbor i närbild
DESCRIPTION:Filmkväll med byoriginal på Näs.
URL:https://skeberg.se/event/siljansnasbor-i-narbild/
LOCATION:Skebergs bygdegård
END:VEVENT
BEGIN:VEVENT
DTSTART;TZID=Europe/Stockholm:20230315T183000
DTEND;TZID=Europe/Stockholm:20230315T200000
DTSTAMP:20260422T024224
CREATED:20230201T200837Z
LAST-MODIFIED:20230201T200837Z
UID:2687-1678905000-1678910400@skeberg.se
SUMMARY:Bingo!
DESCRIPTION:
URL:https://skeberg.se/event/bingo-5/
LOCATION:Skebergs bygdegård
END:VEVENT
BEGIN:VEVENT
DTSTART;VALUE=DATE:20230313
DTEND;VALUE=DATE:20230314
DTSTAMP:20260422T024224
CREATED:20230130T165743Z
LAST-MODIFIED:20230130T165743Z
UID:2668-1678665600-1678751999@skeberg.se
SUMMARY:Bygdegården bokad
DESCRIPTION:Bygdegården bokad.
URL:https://skeberg.se/event/bygdegarden-bokad-4/
LOCATION:Skebergs bygdegård
END:VEVENT
BEGIN:VEVENT
DTSTART;TZID=Europe/Stockholm:20230311T151500
DTEND;TZID=Europe/Stockholm:20230311T180000
DTSTAMP:20260422T024224
CREATED:20230306T131831Z
LAST-MODIFIED:20230306T131915Z
UID:2704-1678547700-1678557600@skeberg.se
SUMMARY:Hockeykväll med Tacobuffé
DESCRIPTION:
URL:https://skeberg.se/event/hockeykvall-med-tacobuffe-3/
LOCATION:Skebergs bygdegård
END:VEVENT
BEGIN:VEVENT
DTSTART;TZID=Europe/Stockholm:20230308T183000
DTEND;TZID=Europe/Stockholm:20230308T200000
DTSTAMP:20260422T024224
CREATED:20230201T200747Z
LAST-MODIFIED:20230201T200747Z
UID:2685-1678300200-1678305600@skeberg.se
SUMMARY:Semmelonsdag
DESCRIPTION:
URL:https://skeberg.se/event/semmelonsdag/
LOCATION:Skebergs bygdegård
END:VEVENT
BEGIN:VEVENT
DTSTART;TZID=Europe/Stockholm:20230225T180000
DTEND;TZID=Europe/Stockholm:20230225T210000
DTSTAMP:20260422T024224
CREATED:20230201T200652Z
LAST-MODIFIED:20230201T200652Z
UID:2681-1677348000-1677358800@skeberg.se
SUMMARY:Hockeykväll med Tacobuffé
DESCRIPTION:
URL:https://skeberg.se/event/hockeykvall-med-tacobuffe-2/
LOCATION:Skebergs bygdegård
END:VEVENT
BEGIN:VEVENT
DTSTART;TZID=Europe/Stockholm:20230218T180000
DTEND;TZID=Europe/Stockholm:20230218T220000
DTSTAMP:20260422T024224
CREATED:20230131T170111Z
LAST-MODIFIED:20230131T170111Z
UID:2672-1676743200-1676757600@skeberg.se
SUMMARY:Privat bokning
DESCRIPTION:
URL:https://skeberg.se/event/privat-bokning-3/
LOCATION:Skebergs bygdegård
END:VEVENT
BEGIN:VEVENT
DTSTART;TZID=Europe/Stockholm:20230208T183000
DTEND;TZID=Europe/Stockholm:20230208T200000
DTSTAMP:20260422T024224
CREATED:20230201T200238Z
LAST-MODIFIED:20230201T200238Z
UID:2679-1675881000-1675886400@skeberg.se
SUMMARY:Bingo!
DESCRIPTION:
URL:https://skeberg.se/event/bingo-4/
LOCATION:Skebergs bygdegård
END:VEVENT
BEGIN:VEVENT
DTSTART;TZID=Europe/Stockholm:20230201T183000
DTEND;TZID=Europe/Stockholm:20230201T200000
DTSTAMP:20260422T024224
CREATED:20230121T112327Z
LAST-MODIFIED:20230121T112327Z
UID:2652-1675276200-1675281600@skeberg.se
SUMMARY:Planeringskväll
DESCRIPTION:
URL:https://skeberg.se/event/planeringskvall-3/
LOCATION:Skebergs bygdegård
END:VEVENT
BEGIN:VEVENT
DTSTART;TZID=Europe/Stockholm:20221231T190000
DTEND;TZID=Europe/Stockholm:20230101T010000
DTSTAMP:20260422T024224
CREATED:20221213T185248Z
LAST-MODIFIED:20221213T185248Z
UID:2640-1672513200-1672534800@skeberg.se
SUMMARY:Nyårsfest
DESCRIPTION:
URL:https://skeberg.se/event/nyarsfest/
LOCATION:Skebergs bygdegård
END:VEVENT
BEGIN:VEVENT
DTSTART;TZID=Europe/Stockholm:20221218T150000
DTEND;TZID=Europe/Stockholm:20221218T170000
DTSTAMP:20260422T024224
CREATED:20221205T175749Z
LAST-MODIFIED:20221205T175749Z
UID:2629-1671375600-1671382800@skeberg.se
SUMMARY:Julkaffe
DESCRIPTION:
URL:https://skeberg.se/event/julkaffe/
LOCATION:Skebergs bygdegård
END:VEVENT
BEGIN:VEVENT
DTSTART;TZID=Europe/Stockholm:20221214T183000
DTEND;TZID=Europe/Stockholm:20221214T203000
DTSTAMP:20260422T024224
CREATED:20220917T120611Z
LAST-MODIFIED:20220917T120611Z
UID:2605-1671042600-1671049800@skeberg.se
SUMMARY:Datakväll – handledning mobiltelefon
DESCRIPTION:
URL:https://skeberg.se/event/datakvall-handledning-mobiltelefon/
LOCATION:Skebergs bygdegård
END:VEVENT
BEGIN:VEVENT
DTSTART;TZID=Europe/Stockholm:20221207T183000
DTEND;TZID=Europe/Stockholm:20221207T203000
DTSTAMP:20260422T024224
CREATED:20220917T120536Z
LAST-MODIFIED:20220917T120536Z
UID:2603-1670437800-1670445000@skeberg.se
SUMMARY:Bingo!
DESCRIPTION:
URL:https://skeberg.se/event/bingo-3/
LOCATION:Skebergs bygdegård
END:VEVENT
BEGIN:VEVENT
DTSTART;TZID=Europe/Stockholm:20221126T180000
DTEND;TZID=Europe/Stockholm:20221126T220000
DTSTAMP:20260422T024224
CREATED:20221106T175203Z
LAST-MODIFIED:20221106T175203Z
UID:2623-1669485600-1669500000@skeberg.se
SUMMARY:Hockeykväll med Tacobuffé
DESCRIPTION:
URL:https://skeberg.se/event/hockeykvall-med-tacobuffe/
LOCATION:Skebergs bygdegård
END:VEVENT
BEGIN:VEVENT
DTSTART;VALUE=DATE:20221121
DTEND;VALUE=DATE:20221122
DTSTAMP:20260422T024224
CREATED:20221009T191010Z
LAST-MODIFIED:20221009T191010Z
UID:2615-1668988800-1669075199@skeberg.se
SUMMARY:Bygdegården bokad
DESCRIPTION:
URL:https://skeberg.se/event/bygdegarden-bokad-2/
END:VEVENT
BEGIN:VEVENT
DTSTART;TZID=Europe/Stockholm:20221116T183000
DTEND;TZID=Europe/Stockholm:20221116T203000
DTSTAMP:20260422T024224
CREATED:20220917T120507Z
LAST-MODIFIED:20220917T120507Z
UID:2601-1668623400-1668630600@skeberg.se
SUMMARY:Musikkväll
DESCRIPTION:
URL:https://skeberg.se/event/musikkvall-3/
LOCATION:Skebergs bygdegård
END:VEVENT
BEGIN:VEVENT
DTSTART;VALUE=DATE:20221112
DTEND;VALUE=DATE:20221113
DTSTAMP:20260422T024224
CREATED:20221019T172746Z
LAST-MODIFIED:20221019T172746Z
UID:2618-1668211200-1668297599@skeberg.se
SUMMARY:Bygdegården bokad
DESCRIPTION:
URL:https://skeberg.se/event/bygdegarden-bokad-3/
LOCATION:Skebergs bygdegård
END:VEVENT
BEGIN:VEVENT
DTSTART;TZID=Europe/Stockholm:20221109T183000
DTEND;TZID=Europe/Stockholm:20221109T203000
DTSTAMP:20260422T024224
CREATED:20220917T120438Z
LAST-MODIFIED:20220917T120438Z
UID:2599-1668018600-1668025800@skeberg.se
SUMMARY:Datakväll – handledning dator
DESCRIPTION:
URL:https://skeberg.se/event/datakvall-handledning-dator/
LOCATION:Skebergs bygdegård
END:VEVENT
END:VCALENDAR