BEGIN:VCALENDAR
VERSION:2.0
PRODID:-//Skebergs bygdeg&aring;rd - ECPv6.15.20//NONSGML v1.0//EN
CALSCALE:GREGORIAN
METHOD:PUBLISH
X-ORIGINAL-URL:https://skeberg.se
X-WR-CALDESC:Händelser för Skebergs bygdeg&aring;rd
REFRESH-INTERVAL;VALUE=DURATION:PT1H
X-Robots-Tag:noindex
X-PUBLISHED-TTL:PT1H
BEGIN:VTIMEZONE
TZID:Europe/Stockholm
BEGIN:DAYLIGHT
TZOFFSETFROM:+0100
TZOFFSETTO:+0200
TZNAME:CEST
DTSTART:20210328T010000
END:DAYLIGHT
BEGIN:STANDARD
TZOFFSETFROM:+0200
TZOFFSETTO:+0100
TZNAME:CET
DTSTART:20211031T010000
END:STANDARD
BEGIN:DAYLIGHT
TZOFFSETFROM:+0100
TZOFFSETTO:+0200
TZNAME:CEST
DTSTART:20220327T010000
END:DAYLIGHT
BEGIN:STANDARD
TZOFFSETFROM:+0200
TZOFFSETTO:+0100
TZNAME:CET
DTSTART:20221030T010000
END:STANDARD
BEGIN:DAYLIGHT
TZOFFSETFROM:+0100
TZOFFSETTO:+0200
TZNAME:CEST
DTSTART:20230326T010000
END:DAYLIGHT
BEGIN:STANDARD
TZOFFSETFROM:+0200
TZOFFSETTO:+0100
TZNAME:CET
DTSTART:20231029T010000
END:STANDARD
END:VTIMEZONE
BEGIN:VEVENT
DTSTART;TZID=Europe/Stockholm:20220504T183000
DTEND;TZID=Europe/Stockholm:20220504T203000
DTSTAMP:20260424T174330
CREATED:20220401T083625Z
LAST-MODIFIED:20220331T180655Z
UID:2402-1651689000-1651696200@skeberg.se
SUMMARY:Musikkväll
DESCRIPTION:
URL:https://skeberg.se/event/musikkvall-2/
LOCATION:Skebergs bygdegård
END:VEVENT
BEGIN:VEVENT
DTSTART;TZID=Europe/Stockholm:20220511T183000
DTEND;TZID=Europe/Stockholm:20220511T203000
DTSTAMP:20260424T174330
CREATED:20220401T083726Z
LAST-MODIFIED:20220331T180636Z
UID:2404-1652293800-1652301000@skeberg.se
SUMMARY:Grillkväll
DESCRIPTION:
URL:https://skeberg.se/event/grillkvall/
LOCATION:Skebergs bygdegård
END:VEVENT
BEGIN:VEVENT
DTSTART;VALUE=DATE:20220528
DTEND;VALUE=DATE:20220529
DTSTAMP:20260424T174330
CREATED:20220331T175348Z
LAST-MODIFIED:20220331T175348Z
UID:2418-1653696000-1653782399@skeberg.se
SUMMARY:Privat bokning
DESCRIPTION:
URL:https://skeberg.se/event/privat-bokning/
END:VEVENT
END:VCALENDAR