BEGIN:VCALENDAR
VERSION:2.0
PRODID:-//Skebergs bygdeg&aring;rd - ECPv6.15.20//NONSGML v1.0//EN
CALSCALE:GREGORIAN
METHOD:PUBLISH
X-WR-CALNAME:Skebergs bygdeg&aring;rd
X-ORIGINAL-URL:https://skeberg.se
X-WR-CALDESC:Händelser för Skebergs bygdeg&aring;rd
REFRESH-INTERVAL;VALUE=DURATION:PT1H
X-Robots-Tag:noindex
X-PUBLISHED-TTL:PT1H
BEGIN:VTIMEZONE
TZID:Europe/Stockholm
BEGIN:DAYLIGHT
TZOFFSETFROM:+0100
TZOFFSETTO:+0200
TZNAME:CEST
DTSTART:20210328T010000
END:DAYLIGHT
BEGIN:STANDARD
TZOFFSETFROM:+0200
TZOFFSETTO:+0100
TZNAME:CET
DTSTART:20211031T010000
END:STANDARD
BEGIN:DAYLIGHT
TZOFFSETFROM:+0100
TZOFFSETTO:+0200
TZNAME:CEST
DTSTART:20220327T010000
END:DAYLIGHT
BEGIN:STANDARD
TZOFFSETFROM:+0200
TZOFFSETTO:+0100
TZNAME:CET
DTSTART:20221030T010000
END:STANDARD
BEGIN:DAYLIGHT
TZOFFSETFROM:+0100
TZOFFSETTO:+0200
TZNAME:CEST
DTSTART:20230326T010000
END:DAYLIGHT
BEGIN:STANDARD
TZOFFSETFROM:+0200
TZOFFSETTO:+0100
TZNAME:CET
DTSTART:20231029T010000
END:STANDARD
END:VTIMEZONE
BEGIN:VEVENT
DTSTART;TZID=Europe/Stockholm:20220807T150000
DTEND;TZID=Europe/Stockholm:20220807T170000
DTSTAMP:20260423T215529
CREATED:20220730T083348Z
LAST-MODIFIED:20220730T135149Z
UID:2551-1659884400-1659891600@skeberg.se
SUMMARY:Gudstjänst
DESCRIPTION:
URL:https://skeberg.se/event/gudstjanst-2/
LOCATION:Skebergs bygdegård
END:VEVENT
BEGIN:VEVENT
DTSTART;TZID=Europe/Stockholm:20220813T180000
DTEND;TZID=Europe/Stockholm:20220813T220000
DTSTAMP:20260423T215529
CREATED:20220808T185044Z
LAST-MODIFIED:20220808T185044Z
UID:2563-1660413600-1660428000@skeberg.se
SUMMARY:Trivselkväll med räksmörgås
DESCRIPTION:
URL:https://skeberg.se/event/trivselkvall-med-raksmorgas/
LOCATION:Skebergs bygdegård
END:VEVENT
BEGIN:VEVENT
DTSTART;VALUE=DATE:20220819
DTEND;VALUE=DATE:20220820
DTSTAMP:20260423T215529
CREATED:20220730T083519Z
LAST-MODIFIED:20220730T083519Z
UID:2553-1660867200-1660953599@skeberg.se
SUMMARY:Damernas surströmmingsfest
DESCRIPTION:
URL:https://skeberg.se/event/damernas-surstrommingsfest/
LOCATION:Skebergs bygdegård
END:VEVENT
BEGIN:VEVENT
DTSTART;VALUE=DATE:20220820
DTEND;VALUE=DATE:20220821
DTSTAMP:20260423T215529
CREATED:20220730T083553Z
LAST-MODIFIED:20220730T083553Z
UID:2555-1660953600-1661039999@skeberg.se
SUMMARY:Herrarnas surströmmingsfest
DESCRIPTION:
URL:https://skeberg.se/event/herrarnas-surstrommingsfest/
LOCATION:Skebergs bygdegård
END:VEVENT
BEGIN:VEVENT
DTSTART;TZID=Europe/Stockholm:20220827T180000
DTEND;TZID=Europe/Stockholm:20220827T235900
DTSTAMP:20260423T215529
CREATED:20220730T083737Z
LAST-MODIFIED:20220814T171321Z
UID:2557-1661623200-1661644740@skeberg.se
SUMMARY:Höstfest
DESCRIPTION:
URL:https://skeberg.se/event/hostfest/
LOCATION:Skebergs bygdegård
END:VEVENT
END:VCALENDAR