BEGIN:VCALENDAR
VERSION:2.0
PRODID:-//Skebergs bygdeg&aring;rd - ECPv6.15.20//NONSGML v1.0//EN
CALSCALE:GREGORIAN
METHOD:PUBLISH
X-WR-CALNAME:Skebergs bygdeg&aring;rd
X-ORIGINAL-URL:https://skeberg.se
X-WR-CALDESC:Händelser för Skebergs bygdeg&aring;rd
REFRESH-INTERVAL;VALUE=DURATION:PT1H
X-Robots-Tag:noindex
X-PUBLISHED-TTL:PT1H
BEGIN:VTIMEZONE
TZID:Europe/Stockholm
BEGIN:DAYLIGHT
TZOFFSETFROM:+0100
TZOFFSETTO:+0200
TZNAME:CEST
DTSTART:20210328T010000
END:DAYLIGHT
BEGIN:STANDARD
TZOFFSETFROM:+0200
TZOFFSETTO:+0100
TZNAME:CET
DTSTART:20211031T010000
END:STANDARD
BEGIN:DAYLIGHT
TZOFFSETFROM:+0100
TZOFFSETTO:+0200
TZNAME:CEST
DTSTART:20220327T010000
END:DAYLIGHT
BEGIN:STANDARD
TZOFFSETFROM:+0200
TZOFFSETTO:+0100
TZNAME:CET
DTSTART:20221030T010000
END:STANDARD
BEGIN:DAYLIGHT
TZOFFSETFROM:+0100
TZOFFSETTO:+0200
TZNAME:CEST
DTSTART:20230326T010000
END:DAYLIGHT
BEGIN:STANDARD
TZOFFSETFROM:+0200
TZOFFSETTO:+0100
TZNAME:CET
DTSTART:20231029T010000
END:STANDARD
END:VTIMEZONE
BEGIN:VEVENT
DTSTART;VALUE=DATE:20221101
DTEND;VALUE=DATE:20221102
DTSTAMP:20260423T181911
CREATED:20221021T163526Z
LAST-MODIFIED:20221021T163526Z
UID:2620-1667260800-1667347199@skeberg.se
SUMMARY:Reflexloppet 2022
DESCRIPTION:Tisdagen den 1 november arrangerar Skibbârg Run fjärde upplagan av Reflexloppet löpning med pannlampa längs mörka men reflexmärkta stigar/körvägar i skogarna runt Skebergsbyarna. Läs mer här
URL:https://skeberg.se/event/reflexloppet-2022/
LOCATION:Skebergs bygdegård
END:VEVENT
BEGIN:VEVENT
DTSTART;TZID=Europe/Stockholm:20221102T183000
DTEND;TZID=Europe/Stockholm:20221102T203000
DTSTAMP:20260423T181911
CREATED:20220917T120410Z
LAST-MODIFIED:20220917T120410Z
UID:2597-1667413800-1667421000@skeberg.se
SUMMARY:Bingo!
DESCRIPTION:
URL:https://skeberg.se/event/bingo-2/
LOCATION:Skebergs bygdegård
END:VEVENT
BEGIN:VEVENT
DTSTART;TZID=Europe/Stockholm:20221109T183000
DTEND;TZID=Europe/Stockholm:20221109T203000
DTSTAMP:20260423T181911
CREATED:20220917T120438Z
LAST-MODIFIED:20220917T120438Z
UID:2599-1668018600-1668025800@skeberg.se
SUMMARY:Datakväll – handledning dator
DESCRIPTION:
URL:https://skeberg.se/event/datakvall-handledning-dator/
LOCATION:Skebergs bygdegård
END:VEVENT
BEGIN:VEVENT
DTSTART;VALUE=DATE:20221112
DTEND;VALUE=DATE:20221113
DTSTAMP:20260423T181911
CREATED:20221019T172746Z
LAST-MODIFIED:20221019T172746Z
UID:2618-1668211200-1668297599@skeberg.se
SUMMARY:Bygdegården bokad
DESCRIPTION:
URL:https://skeberg.se/event/bygdegarden-bokad-3/
LOCATION:Skebergs bygdegård
END:VEVENT
BEGIN:VEVENT
DTSTART;TZID=Europe/Stockholm:20221116T183000
DTEND;TZID=Europe/Stockholm:20221116T203000
DTSTAMP:20260423T181911
CREATED:20220917T120507Z
LAST-MODIFIED:20220917T120507Z
UID:2601-1668623400-1668630600@skeberg.se
SUMMARY:Musikkväll
DESCRIPTION:
URL:https://skeberg.se/event/musikkvall-3/
LOCATION:Skebergs bygdegård
END:VEVENT
BEGIN:VEVENT
DTSTART;VALUE=DATE:20221121
DTEND;VALUE=DATE:20221122
DTSTAMP:20260423T181911
CREATED:20221009T191010Z
LAST-MODIFIED:20221009T191010Z
UID:2615-1668988800-1669075199@skeberg.se
SUMMARY:Bygdegården bokad
DESCRIPTION:
URL:https://skeberg.se/event/bygdegarden-bokad-2/
END:VEVENT
BEGIN:VEVENT
DTSTART;TZID=Europe/Stockholm:20221126T180000
DTEND;TZID=Europe/Stockholm:20221126T220000
DTSTAMP:20260423T181911
CREATED:20221106T175203Z
LAST-MODIFIED:20221106T175203Z
UID:2623-1669485600-1669500000@skeberg.se
SUMMARY:Hockeykväll med Tacobuffé
DESCRIPTION:
URL:https://skeberg.se/event/hockeykvall-med-tacobuffe/
LOCATION:Skebergs bygdegård
END:VEVENT
END:VCALENDAR