BEGIN:VCALENDAR
VERSION:2.0
PRODID:-//Skebergs bygdeg&aring;rd - ECPv6.15.20//NONSGML v1.0//EN
CALSCALE:GREGORIAN
METHOD:PUBLISH
X-WR-CALNAME:Skebergs bygdeg&aring;rd
X-ORIGINAL-URL:https://skeberg.se
X-WR-CALDESC:Händelser för Skebergs bygdeg&aring;rd
REFRESH-INTERVAL;VALUE=DURATION:PT1H
X-Robots-Tag:noindex
X-PUBLISHED-TTL:PT1H
BEGIN:VTIMEZONE
TZID:Europe/Stockholm
BEGIN:DAYLIGHT
TZOFFSETFROM:+0100
TZOFFSETTO:+0200
TZNAME:CEST
DTSTART:20220327T010000
END:DAYLIGHT
BEGIN:STANDARD
TZOFFSETFROM:+0200
TZOFFSETTO:+0100
TZNAME:CET
DTSTART:20221030T010000
END:STANDARD
BEGIN:DAYLIGHT
TZOFFSETFROM:+0100
TZOFFSETTO:+0200
TZNAME:CEST
DTSTART:20230326T010000
END:DAYLIGHT
BEGIN:STANDARD
TZOFFSETFROM:+0200
TZOFFSETTO:+0100
TZNAME:CET
DTSTART:20231029T010000
END:STANDARD
BEGIN:DAYLIGHT
TZOFFSETFROM:+0100
TZOFFSETTO:+0200
TZNAME:CEST
DTSTART:20240331T010000
END:DAYLIGHT
BEGIN:STANDARD
TZOFFSETFROM:+0200
TZOFFSETTO:+0100
TZNAME:CET
DTSTART:20241027T010000
END:STANDARD
END:VTIMEZONE
BEGIN:VEVENT
DTSTART;TZID=Europe/Stockholm:20230412T183000
DTEND;TZID=Europe/Stockholm:20230412T200000
DTSTAMP:20260423T115736
CREATED:20230201T201058Z
LAST-MODIFIED:20230201T201058Z
UID:2693-1681324200-1681329600@skeberg.se
SUMMARY:Bingo!
DESCRIPTION:
URL:https://skeberg.se/event/bingo-6/
LOCATION:Skebergs bygdegård
END:VEVENT
BEGIN:VEVENT
DTSTART;TZID=Europe/Stockholm:20230419T183000
DTEND;TZID=Europe/Stockholm:20230419T200000
DTSTAMP:20260423T115736
CREATED:20230201T201135Z
LAST-MODIFIED:20230201T201135Z
UID:2695-1681929000-1681934400@skeberg.se
SUMMARY:Filmkväll
DESCRIPTION:
URL:https://skeberg.se/event/filmkvall-4/
LOCATION:Skebergs bygdegård
END:VEVENT
BEGIN:VEVENT
DTSTART;TZID=Europe/Stockholm:20230426T183000
DTEND;TZID=Europe/Stockholm:20230426T200000
DTSTAMP:20260423T115736
CREATED:20230201T201235Z
LAST-MODIFIED:20230201T201235Z
UID:2697-1682533800-1682539200@skeberg.se
SUMMARY:Lokal filmkväll
DESCRIPTION:Filmklipp från vårt närområde.
URL:https://skeberg.se/event/lokal-filmkvall/
LOCATION:Skebergs bygdegård
END:VEVENT
BEGIN:VEVENT
DTSTART;TZID=Europe/Stockholm:20230430T190000
DTEND;TZID=Europe/Stockholm:20230430T220000
DTSTAMP:20260423T115736
CREATED:20230407T064651Z
LAST-MODIFIED:20230407T064651Z
UID:2720-1682881200-1682892000@skeberg.se
SUMMARY:Valborgsfirande
DESCRIPTION:
URL:https://skeberg.se/event/valborgsfirande-2/
LOCATION:Skebergs bygdegård
END:VEVENT
END:VCALENDAR