BEGIN:VCALENDAR
VERSION:2.0
PRODID:-//Skebergs bygdeg&aring;rd - ECPv6.15.20//NONSGML v1.0//EN
CALSCALE:GREGORIAN
METHOD:PUBLISH
X-WR-CALNAME:Skebergs bygdeg&aring;rd
X-ORIGINAL-URL:https://skeberg.se
X-WR-CALDESC:Händelser för Skebergs bygdeg&aring;rd
REFRESH-INTERVAL;VALUE=DURATION:PT1H
X-Robots-Tag:noindex
X-PUBLISHED-TTL:PT1H
BEGIN:VTIMEZONE
TZID:Europe/Stockholm
BEGIN:DAYLIGHT
TZOFFSETFROM:+0100
TZOFFSETTO:+0200
TZNAME:CEST
DTSTART:20220327T010000
END:DAYLIGHT
BEGIN:STANDARD
TZOFFSETFROM:+0200
TZOFFSETTO:+0100
TZNAME:CET
DTSTART:20221030T010000
END:STANDARD
BEGIN:DAYLIGHT
TZOFFSETFROM:+0100
TZOFFSETTO:+0200
TZNAME:CEST
DTSTART:20230326T010000
END:DAYLIGHT
BEGIN:STANDARD
TZOFFSETFROM:+0200
TZOFFSETTO:+0100
TZNAME:CET
DTSTART:20231029T010000
END:STANDARD
BEGIN:DAYLIGHT
TZOFFSETFROM:+0100
TZOFFSETTO:+0200
TZNAME:CEST
DTSTART:20240331T010000
END:DAYLIGHT
BEGIN:STANDARD
TZOFFSETFROM:+0200
TZOFFSETTO:+0100
TZNAME:CET
DTSTART:20241027T010000
END:STANDARD
END:VTIMEZONE
BEGIN:VEVENT
DTSTART;TZID=Europe/Stockholm:20230806T150000
DTEND;TZID=Europe/Stockholm:20230806T170000
DTSTAMP:20260423T065921
CREATED:20230703T094534Z
LAST-MODIFIED:20230730T124245Z
UID:2794-1691334000-1691341200@skeberg.se
SUMMARY:Sommargudstjänst
DESCRIPTION:
URL:https://skeberg.se/event/sommargudstjanst/
LOCATION:Skebergs bygdegård
END:VEVENT
BEGIN:VEVENT
DTSTART;TZID=Europe/Stockholm:20230827T080000
DTEND;TZID=Europe/Stockholm:20230827T170000
DTSTAMP:20260423T065921
CREATED:20230827T113756Z
LAST-MODIFIED:20230827T113756Z
UID:2829-1693123200-1693155600@skeberg.se
SUMMARY:Planeringskväll inför höstens trivselkvällar
DESCRIPTION:Vi planerar höstens trivselkvällar i bygdegården. \nVälkommen till Skebergs bygdegård onsdag den 6 september kl 18.
URL:https://skeberg.se/event/planeringskvall-infor-hostens-trivselkvallar/
END:VEVENT
END:VCALENDAR