BEGIN:VCALENDAR
VERSION:2.0
PRODID:-//Skebergs bygdeg&aring;rd - ECPv6.15.20//NONSGML v1.0//EN
CALSCALE:GREGORIAN
METHOD:PUBLISH
X-WR-CALNAME:Skebergs bygdeg&aring;rd
X-ORIGINAL-URL:https://skeberg.se
X-WR-CALDESC:Händelser för Skebergs bygdeg&aring;rd
REFRESH-INTERVAL;VALUE=DURATION:PT1H
X-Robots-Tag:noindex
X-PUBLISHED-TTL:PT1H
BEGIN:VTIMEZONE
TZID:Europe/Stockholm
BEGIN:DAYLIGHT
TZOFFSETFROM:+0100
TZOFFSETTO:+0200
TZNAME:CEST
DTSTART:20230326T010000
END:DAYLIGHT
BEGIN:STANDARD
TZOFFSETFROM:+0200
TZOFFSETTO:+0100
TZNAME:CET
DTSTART:20231029T010000
END:STANDARD
BEGIN:DAYLIGHT
TZOFFSETFROM:+0100
TZOFFSETTO:+0200
TZNAME:CEST
DTSTART:20240331T010000
END:DAYLIGHT
BEGIN:STANDARD
TZOFFSETFROM:+0200
TZOFFSETTO:+0100
TZNAME:CET
DTSTART:20241027T010000
END:STANDARD
BEGIN:DAYLIGHT
TZOFFSETFROM:+0100
TZOFFSETTO:+0200
TZNAME:CEST
DTSTART:20250330T010000
END:DAYLIGHT
BEGIN:STANDARD
TZOFFSETFROM:+0200
TZOFFSETTO:+0100
TZNAME:CET
DTSTART:20251026T010000
END:STANDARD
END:VTIMEZONE
BEGIN:VEVENT
DTSTART;VALUE=DATE:20240502
DTEND;VALUE=DATE:20240503
DTSTAMP:20260422T214457
CREATED:20240403T174205Z
LAST-MODIFIED:20240403T174205Z
UID:2926-1714608000-1714694399@skeberg.se
SUMMARY:Bygdegården bokad
DESCRIPTION:
URL:https://skeberg.se/event/bygdegarden-bokad-13/
LOCATION:Skebergs bygdegård
END:VEVENT
BEGIN:VEVENT
DTSTART;VALUE=DATE:20240507
DTEND;VALUE=DATE:20240508
DTSTAMP:20260422T214457
CREATED:20240403T174231Z
LAST-MODIFIED:20240403T174231Z
UID:2928-1715040000-1715126399@skeberg.se
SUMMARY:Bygdegården bokad
DESCRIPTION:
URL:https://skeberg.se/event/bygdegarden-bokad-14/
END:VEVENT
BEGIN:VEVENT
DTSTART;TZID=Europe/Stockholm:20240508T183000
DTEND;TZID=Europe/Stockholm:20240508T210000
DTSTAMP:20260422T214457
CREATED:20240117T184902Z
LAST-MODIFIED:20240117T184902Z
UID:2904-1715193000-1715202000@skeberg.se
SUMMARY:Grillkväll
DESCRIPTION:
URL:https://skeberg.se/event/grillkvall-2/
LOCATION:Skebergs bygdegård
END:VEVENT
BEGIN:VEVENT
DTSTART;TZID=Europe/Stockholm:20240517T190000
DTEND;TZID=Europe/Stockholm:20240517T200000
DTSTAMP:20260422T214457
CREATED:20240406T073749Z
LAST-MODIFIED:20240406T073749Z
UID:2938-1715972400-1715976000@skeberg.se
SUMMARY:Årsmöte Skebergs fiberförening
DESCRIPTION:Årsmöte 2024 \nFredagen 17 Maj klockan 19.00 i Skebergs bygdegård. Ärende enligt stadgarna.
URL:https://skeberg.se/event/arsmote-skebergs-fiberforening/
LOCATION:Skebergs bygdegård
END:VEVENT
BEGIN:VEVENT
DTSTART;TZID=Europe/Stockholm:20240527T190000
DTEND;TZID=Europe/Stockholm:20240527T210000
DTSTAMP:20260422T214457
CREATED:20240428T190910Z
LAST-MODIFIED:20240428T190910Z
UID:2941-1716836400-1716843600@skeberg.se
SUMMARY:Årsmöte Skebergs samfällighetsförening
DESCRIPTION:
URL:https://skeberg.se/event/arsmote-skebergs-samfallighetsforening/
LOCATION:Skebergs bygdegård
END:VEVENT
END:VCALENDAR