BEGIN:VCALENDAR
VERSION:2.0
PRODID:-//Skebergs bygdeg&aring;rd - ECPv6.15.20//NONSGML v1.0//EN
CALSCALE:GREGORIAN
METHOD:PUBLISH
X-WR-CALNAME:Skebergs bygdeg&aring;rd
X-ORIGINAL-URL:https://skeberg.se
X-WR-CALDESC:Händelser för Skebergs bygdeg&aring;rd
REFRESH-INTERVAL;VALUE=DURATION:PT1H
X-Robots-Tag:noindex
X-PUBLISHED-TTL:PT1H
BEGIN:VTIMEZONE
TZID:Europe/Stockholm
BEGIN:DAYLIGHT
TZOFFSETFROM:+0100
TZOFFSETTO:+0200
TZNAME:CEST
DTSTART:20230326T010000
END:DAYLIGHT
BEGIN:STANDARD
TZOFFSETFROM:+0200
TZOFFSETTO:+0100
TZNAME:CET
DTSTART:20231029T010000
END:STANDARD
BEGIN:DAYLIGHT
TZOFFSETFROM:+0100
TZOFFSETTO:+0200
TZNAME:CEST
DTSTART:20240331T010000
END:DAYLIGHT
BEGIN:STANDARD
TZOFFSETFROM:+0200
TZOFFSETTO:+0100
TZNAME:CET
DTSTART:20241027T010000
END:STANDARD
BEGIN:DAYLIGHT
TZOFFSETFROM:+0100
TZOFFSETTO:+0200
TZNAME:CEST
DTSTART:20250330T010000
END:DAYLIGHT
BEGIN:STANDARD
TZOFFSETFROM:+0200
TZOFFSETTO:+0100
TZNAME:CET
DTSTART:20251026T010000
END:STANDARD
END:VTIMEZONE
BEGIN:VEVENT
DTSTART;TZID=Europe/Stockholm:20240804T150000
DTEND;TZID=Europe/Stockholm:20240804T170000
DTSTAMP:20260422T180610
CREATED:20240617T162920Z
LAST-MODIFIED:20240725T065848Z
UID:2962-1722783600-1722790800@skeberg.se
SUMMARY:Sommargudstjänst
DESCRIPTION:
URL:https://skeberg.se/event/sommargudstjanst-2/
LOCATION:Skebergs bygdegård
END:VEVENT
BEGIN:VEVENT
DTSTART;VALUE=DATE:20240818
DTEND;VALUE=DATE:20240819
DTSTAMP:20260422T180610
CREATED:20240816T075519Z
LAST-MODIFIED:20240816T075519Z
UID:3040-1723939200-1724025599@skeberg.se
SUMMARY:Bygdegården bokad
DESCRIPTION:
URL:https://skeberg.se/event/bygdegarden-bokad-17/
END:VEVENT
BEGIN:VEVENT
DTSTART;VALUE=DATE:20240822
DTEND;VALUE=DATE:20240823
DTSTAMP:20260422T180610
CREATED:20240618T200456Z
LAST-MODIFIED:20240618T200456Z
UID:2969-1724284800-1724371199@skeberg.se
SUMMARY:Bygdegården bokad
DESCRIPTION:
URL:https://skeberg.se/event/bygdegarden-bokad-16/
END:VEVENT
BEGIN:VEVENT
DTSTART;VALUE=DATE:20240829
DTEND;VALUE=DATE:20240831
DTSTAMP:20260422T180610
CREATED:20240617T152837Z
LAST-MODIFIED:20240617T152837Z
UID:2951-1724889600-1725062399@skeberg.se
SUMMARY:Bygdegården bokad
DESCRIPTION:
URL:https://skeberg.se/event/bygdegarden-bokad-15/
LOCATION:Skebergs bygdegård
END:VEVENT
END:VCALENDAR