BEGIN:VCALENDAR
VERSION:2.0
PRODID:-//Skebergs bygdeg&aring;rd - ECPv6.15.20//NONSGML v1.0//EN
CALSCALE:GREGORIAN
METHOD:PUBLISH
X-ORIGINAL-URL:https://skeberg.se
X-WR-CALDESC:Händelser för Skebergs bygdeg&aring;rd
REFRESH-INTERVAL;VALUE=DURATION:PT1H
X-Robots-Tag:noindex
X-PUBLISHED-TTL:PT1H
BEGIN:VTIMEZONE
TZID:Europe/Stockholm
BEGIN:DAYLIGHT
TZOFFSETFROM:+0100
TZOFFSETTO:+0200
TZNAME:CEST
DTSTART:20240331T010000
END:DAYLIGHT
BEGIN:STANDARD
TZOFFSETFROM:+0200
TZOFFSETTO:+0100
TZNAME:CET
DTSTART:20241027T010000
END:STANDARD
BEGIN:DAYLIGHT
TZOFFSETFROM:+0100
TZOFFSETTO:+0200
TZNAME:CEST
DTSTART:20250330T010000
END:DAYLIGHT
BEGIN:STANDARD
TZOFFSETFROM:+0200
TZOFFSETTO:+0100
TZNAME:CET
DTSTART:20251026T010000
END:STANDARD
BEGIN:DAYLIGHT
TZOFFSETFROM:+0100
TZOFFSETTO:+0200
TZNAME:CEST
DTSTART:20260329T010000
END:DAYLIGHT
BEGIN:STANDARD
TZOFFSETFROM:+0200
TZOFFSETTO:+0100
TZNAME:CET
DTSTART:20261025T010000
END:STANDARD
END:VTIMEZONE
BEGIN:VEVENT
DTSTART;VALUE=DATE:20251005
DTEND;VALUE=DATE:20251006
DTSTAMP:20260421T215836
CREATED:20251001T155658Z
LAST-MODIFIED:20251001T155658Z
UID:3228-1759622400-1759708799@skeberg.se
SUMMARY:Bygdegården bokad
DESCRIPTION:
URL:https://skeberg.se/event/bygdegarden-bokad-29/
END:VEVENT
BEGIN:VEVENT
DTSTART;VALUE=DATE:20251008
DTEND;VALUE=DATE:20251009
DTSTAMP:20260421T215836
CREATED:20251001T155935Z
LAST-MODIFIED:20251001T155935Z
UID:3232-1759881600-1759967999@skeberg.se
SUMMARY:Spelkväll
DESCRIPTION:Trivselkväll 18:30
URL:https://skeberg.se/event/spelkvall-6/
END:VEVENT
BEGIN:VEVENT
DTSTART;VALUE=DATE:20251015
DTEND;VALUE=DATE:20251016
DTSTAMP:20260421T215836
CREATED:20251001T160134Z
LAST-MODIFIED:20251001T160134Z
UID:3236-1760486400-1760572799@skeberg.se
SUMMARY:Musik- och sångkväll
DESCRIPTION:Trivselkväll 18:30
URL:https://skeberg.se/event/musik-och-sangkvall/
LOCATION:Skebergs bygdegård
END:VEVENT
BEGIN:VEVENT
DTSTART;VALUE=DATE:20251022
DTEND;VALUE=DATE:20251023
DTSTAMP:20260421T215836
CREATED:20251001T160203Z
LAST-MODIFIED:20251001T160203Z
UID:3238-1761091200-1761177599@skeberg.se
SUMMARY:Bingo!
DESCRIPTION:Trivselkväll 18:30
URL:https://skeberg.se/event/bingo-16/
LOCATION:Skebergs bygdegård
END:VEVENT
BEGIN:VEVENT
DTSTART;VALUE=DATE:20251029
DTEND;VALUE=DATE:20251030
DTSTAMP:20260421T215836
CREATED:20250916T181719Z
LAST-MODIFIED:20250916T181719Z
UID:3225-1761696000-1761782399@skeberg.se
SUMMARY:Reflexloppet
DESCRIPTION:Läs mer här: Skibbârg Runs Instagram
URL:https://skeberg.se/event/reflexloppet/
END:VEVENT
END:VCALENDAR